BEGIN:VCALENDAR
VERSION:2.0
PRODID:-//Degrowth Central Victoria - ECPv6.15.17.1//NONSGML v1.0//EN
CALSCALE:GREGORIAN
METHOD:PUBLISH
X-WR-CALNAME:Degrowth Central Victoria
X-ORIGINAL-URL:https://degrowthcentralvic.org
X-WR-CALDESC:Events for Degrowth Central Victoria
REFRESH-INTERVAL;VALUE=DURATION:PT1H
X-Robots-Tag:noindex
X-PUBLISHED-TTL:PT1H
BEGIN:VTIMEZONE
TZID:Australia/Melbourne
BEGIN:STANDARD
TZOFFSETFROM:+1100
TZOFFSETTO:+1000
TZNAME:AEST
DTSTART:20230401T160000
END:STANDARD
BEGIN:DAYLIGHT
TZOFFSETFROM:+1000
TZOFFSETTO:+1100
TZNAME:AEDT
DTSTART:20230930T160000
END:DAYLIGHT
BEGIN:STANDARD
TZOFFSETFROM:+1100
TZOFFSETTO:+1000
TZNAME:AEST
DTSTART:20240406T160000
END:STANDARD
BEGIN:DAYLIGHT
TZOFFSETFROM:+1000
TZOFFSETTO:+1100
TZNAME:AEDT
DTSTART:20241005T160000
END:DAYLIGHT
BEGIN:STANDARD
TZOFFSETFROM:+1100
TZOFFSETTO:+1000
TZNAME:AEST
DTSTART:20250405T160000
END:STANDARD
BEGIN:DAYLIGHT
TZOFFSETFROM:+1000
TZOFFSETTO:+1100
TZNAME:AEDT
DTSTART:20251004T160000
END:DAYLIGHT
BEGIN:STANDARD
TZOFFSETFROM:+1100
TZOFFSETTO:+1000
TZNAME:AEST
DTSTART:20260404T160000
END:STANDARD
BEGIN:DAYLIGHT
TZOFFSETFROM:+1000
TZOFFSETTO:+1100
TZNAME:AEDT
DTSTART:20261003T160000
END:DAYLIGHT
END:VTIMEZONE
BEGIN:VTIMEZONE
TZID:UTC
BEGIN:STANDARD
TZOFFSETFROM:+0000
TZOFFSETTO:+0000
TZNAME:UTC
DTSTART:20230101T000000
END:STANDARD
END:VTIMEZONE
BEGIN:VEVENT
DTSTART;TZID=Australia/Melbourne:20250407T180000
DTEND;TZID=Australia/Melbourne:20250407T193000
DTSTAMP:20260422T205801
CREATED:20250316T050733Z
LAST-MODIFIED:20250316T050733Z
UID:2190-1744048800-1744054200@degrowthcentralvic.org
SUMMARY:DEMOCRATIC WELLBEING
DESCRIPTION:
URL:https://degrowthcentralvic.org/event/democratic-wellbeing/
LOCATION:Northern Arts Hotel\, 359 Barker Street\, Castlemaine\, Vic\, 3450\, Australia
END:VEVENT
BEGIN:VEVENT
DTSTART;TZID=Australia/Melbourne:20250328T143000
DTEND;TZID=Australia/Melbourne:20250328T160000
DTSTAMP:20260422T205801
CREATED:20250316T010624Z
LAST-MODIFIED:20250316T010624Z
UID:2184-1743172200-1743177600@degrowthcentralvic.org
SUMMARY:Degrowth Central Victoria meeting
DESCRIPTION:All subscribers to our DCV enews are welcome to join our next DCV meeting where we will report on recent activities\, propose and make decisions on future activities. Email us for more details – degrowthcentralvic@proton.me
URL:https://degrowthcentralvic.org/event/degrowth-central-victoria-meeting-3/
LOCATION:Castlemaine Library\, 212 Barker St\, Castlemaine\, VIC\, 3450\, Australia
END:VEVENT
BEGIN:VEVENT
DTSTART;TZID=Australia/Melbourne:20250212T180000
DTEND;TZID=Australia/Melbourne:20250212T193000
DTSTAMP:20260422T205801
CREATED:20250201T230953Z
LAST-MODIFIED:20250201T230953Z
UID:2172-1739383200-1739388600@degrowthcentralvic.org
SUMMARY:LESS IS MORE: Doco Screening and Q&A with director
DESCRIPTION:
URL:https://degrowthcentralvic.org/event/less-is-more-doco-screening-and-qa-with-director/
LOCATION:Northern Arts Hotel\, 359 Barker Street\, Castlemaine\, Vic\, 3450\, Australia
END:VEVENT
BEGIN:VEVENT
DTSTART;TZID=Australia/Melbourne:20250205T173000
DTEND;TZID=Australia/Melbourne:20250305T190000
DTSTAMP:20260422T205801
CREATED:20250109T044920Z
LAST-MODIFIED:20250109T044920Z
UID:2168-1738776600-1741201200@degrowthcentralvic.org
SUMMARY:DEGROWTH short course
DESCRIPTION:
URL:https://degrowthcentralvic.org/event/degrowth-short-course/
LOCATION:Castlemaine Community House\, 30 Templeton Street\, Castlemaine\, VIC\, 3450\, Australia
END:VEVENT
BEGIN:VEVENT
DTSTART;TZID=Australia/Melbourne:20250203T180000
DTEND;TZID=Australia/Melbourne:20250203T193000
DTSTAMP:20260422T205801
CREATED:20250109T035117Z
LAST-MODIFIED:20250109T035117Z
UID:2158-1738605600-1738611000@degrowthcentralvic.org
SUMMARY:Agroecology & Food Sovereignty
DESCRIPTION:
URL:https://degrowthcentralvic.org/event/agroecology-food-sovereignty/
LOCATION:Northern Arts Hotel\, 359 Barker Street\, Castlemaine\, Vic\, 3450\, Australia
END:VEVENT
BEGIN:VEVENT
DTSTART;TZID=Australia/Melbourne:20241202T180000
DTEND;TZID=Australia/Melbourne:20241202T193000
DTSTAMP:20260422T205801
CREATED:20241105T210258Z
LAST-MODIFIED:20241105T210258Z
UID:2148-1733162400-1733167800@degrowthcentralvic.org
SUMMARY:ENCORE!
DESCRIPTION:
URL:https://degrowthcentralvic.org/event/encore-2/
LOCATION:Northern Arts Hotel\, 359 Barker Street\, Castlemaine\, Vic\, 3450\, Australia
END:VEVENT
BEGIN:VEVENT
DTSTART;TZID=Australia/Melbourne:20241122T150000
DTEND;TZID=Australia/Melbourne:20241122T170000
DTSTAMP:20260422T205801
CREATED:20241105T210826Z
LAST-MODIFIED:20241105T211149Z
UID:2151-1732287600-1732294800@degrowthcentralvic.org
SUMMARY:Degrowth Central Victoria meeting
DESCRIPTION:Degrowth Central Victoria subscribers are invited to our end of 2024 meeting where we discuss proposals for new activities and reports and challenges regarding current activities. This DCV meeting will be held in the Castlemaine Library\, special meeting room\, 3pm Friday\, 22 November. \n .
URL:https://degrowthcentralvic.org/event/degrowth-central-victoria-meeting-2/
LOCATION:Castlemaine Library\, 212 Barker St\, Castlemaine\, VIC\, 3450\, Australia
END:VEVENT
BEGIN:VEVENT
DTSTART;TZID=Australia/Melbourne:20241104T180000
DTEND;TZID=Australia/Melbourne:20241104T193000
DTSTAMP:20260422T205801
CREATED:20241029T230850Z
LAST-MODIFIED:20241029T230850Z
UID:2115-1730743200-1730748600@degrowthcentralvic.org
SUMMARY:AI and Fungal Dreaming
DESCRIPTION:
URL:https://degrowthcentralvic.org/event/ai-and-fungal-dreaming/
LOCATION:Northern Arts Hotel\, 359 Barker Street\, Castlemaine\, Vic\, 3450\, Australia
END:VEVENT
BEGIN:VEVENT
DTSTART;TZID=Australia/Melbourne:20241007T180000
DTEND;TZID=Australia/Melbourne:20241007T193000
DTSTAMP:20260422T205801
CREATED:20240906T015211Z
LAST-MODIFIED:20240928T001836Z
UID:2078-1728324000-1728329400@degrowthcentralvic.org
SUMMARY:Come & Make a Zine!
DESCRIPTION:
URL:https://degrowthcentralvic.org/event/encore/
LOCATION:Northern Arts Hotel\, 359 Barker Street\, Castlemaine\, Vic\, 3450\, Australia
END:VEVENT
BEGIN:VEVENT
DTSTART;TZID=Australia/Melbourne:20240902T180000
DTEND;TZID=Australia/Melbourne:20240902T193000
DTSTAMP:20260422T205801
CREATED:20240906T015504Z
LAST-MODIFIED:20240906T015504Z
UID:2081-1725300000-1725305400@degrowthcentralvic.org
SUMMARY:Quit Nukes
DESCRIPTION:
URL:https://degrowthcentralvic.org/event/quit-nukes/
LOCATION:Northern Arts Hotel\, 359 Barker Street\, Castlemaine\, Vic\, 3450\, Australia
END:VEVENT
BEGIN:VEVENT
DTSTART;TZID=Australia/Melbourne:20240825T143000
DTEND;TZID=Australia/Melbourne:20240825T153000
DTSTAMP:20260422T205801
CREATED:20240715T215406Z
LAST-MODIFIED:20240715T215406Z
UID:2061-1724596200-1724599800@degrowthcentralvic.org
SUMMARY:The Untamed Heart of Paradise
DESCRIPTION:An hour-long journey of song\, poetry and story: circling around what feeds the soul in the depths of winter. \nCome compost your mind. \nShare in the heart of community. \nJoin in some communal singing. \nBe transported to poetic wintery realms! \nPut on by Degrowth Central Victoria — \nKirsten Moegerlein re-enchants ways of being\, making and relating through events\, books and her art practice. \nAnitra Nelson is an author of creative fiction and non-fiction\, prose\, poems\, theatrical and screen plays. \nPeter Yates is an anthropologist and garlic farmer keenly interested in mythopoetic connections between people and land. \nAnd more performing friends! \nFree.
URL:https://degrowthcentralvic.org/event/the-untamed-heart-of-paradise/
LOCATION:Paradise Bookshop\, 46 Vincent Street\, Daylesford\, VIC\, 3460\, Australia
END:VEVENT
BEGIN:VEVENT
DTSTART;TZID=Australia/Melbourne:20240805T180000
DTEND;TZID=Australia/Melbourne:20240805T193000
DTSTAMP:20260422T205801
CREATED:20240715T220843Z
LAST-MODIFIED:20240715T220843Z
UID:2074-1722880800-1722886200@degrowthcentralvic.org
SUMMARY:Tale of Two Peoples (doco and talk)
DESCRIPTION:
URL:https://degrowthcentralvic.org/event/tale-of-two-peoples-doco-and-talk/
LOCATION:Northern Arts Hotel\, 359 Barker Street\, Castlemaine\, Vic\, 3450\, Australia
END:VEVENT
BEGIN:VEVENT
DTSTART;TZID=Australia/Melbourne:20240727T143000
DTEND;TZID=Australia/Melbourne:20240727T153000
DTSTAMP:20260422T205801
CREATED:20240715T220221Z
LAST-MODIFIED:20240715T220221Z
UID:2067-1722090600-1722094200@degrowthcentralvic.org
SUMMARY:Essentials Workshop Bendigo
DESCRIPTION:The DCV Essentials Research project is exploring ‘essentials’ for everyday life\, identifying essentials\, and assessing how many essentials (goods and services) are produced – and could be produced – locally. \nCome along to a talk\, and participate in a couple of exercises and facilitated participant discussions by two DCV members Anitra Nelson and Peter Yates. \nWhat is ‘essential’ to you? \nWhat does ‘local’ mean\, in terms of area? \nWhat non-market forms of satisfying our needs do we have access to or could we create? \nFor details please contact Liena Lacey — lienalacey@gmail.com
URL:https://degrowthcentralvic.org/event/essentials-workshop-bendigo/
LOCATION:Old Church on the Hill\, 36 Russell Street\, Quarry Hill\, VIC\, 3460\, Australia
END:VEVENT
BEGIN:VEVENT
DTSTART;TZID=Australia/Melbourne:20240628T180000
DTEND;TZID=Australia/Melbourne:20240628T193000
DTSTAMP:20260422T205801
CREATED:20240527T230229Z
LAST-MODIFIED:20240616T080935Z
UID:2040-1719597600-1719603000@degrowthcentralvic.org
SUMMARY:ORGANISING OCCUPY WALL STREET
DESCRIPTION:Download LESSONS FROM OCCUPY WALL STREET FOR TODAY the last 1000 words in Marisa’s book on lessons from OWS for activism and activists today.
URL:https://degrowthcentralvic.org/event/organising-occupy-wall-street/
LOCATION:Northern Arts Hotel\, 359 Barker Street\, Castlemaine\, Vic\, 3450\, Australia
END:VEVENT
BEGIN:VEVENT
DTSTART;TZID=Australia/Melbourne:20240603T180000
DTEND;TZID=Australia/Melbourne:20240603T193000
DTSTAMP:20260422T205801
CREATED:20240517T212941Z
LAST-MODIFIED:20240527T230513Z
UID:2031-1717437600-1717443000@degrowthcentralvic.org
SUMMARY:ESSENTIALS WORKSHOP
DESCRIPTION:
URL:https://degrowthcentralvic.org/event/essentials-workshop/
LOCATION:Northern Arts Hotel\, 359 Barker Street\, Castlemaine\, Vic\, 3450\, Australia
END:VEVENT
BEGIN:VEVENT
DTSTART;TZID=Australia/Melbourne:20240513T180000
DTEND;TZID=Australia/Melbourne:20240513T193000
DTSTAMP:20260422T205801
CREATED:20240423T044347Z
LAST-MODIFIED:20240423T044347Z
UID:2013-1715623200-1715628600@degrowthcentralvic.org
SUMMARY:Degrowth Central Victoria Launch
DESCRIPTION:
URL:https://degrowthcentralvic.org/event/degrowth-central-victoria-launch/
LOCATION:Northern Arts Hotel\, 359 Barker Street\, Castlemaine\, Vic\, 3450\, Australia
END:VEVENT
BEGIN:VEVENT
DTSTART;TZID=Australia/Melbourne:20240428T100000
DTEND;TZID=Australia/Melbourne:20240428T130000
DTSTAMP:20260422T205801
CREATED:20240328T203040Z
LAST-MODIFIED:20240328T203040Z
UID:1984-1714298400-1714309200@degrowthcentralvic.org
SUMMARY:Castlemaine Repair Cafe
DESCRIPTION:Castlemaine Repair Cafe \n \nLast Sunday every month\, January–November\, 1st in 1st served  \nFor more details see: https://castlemainerepaircafe.wordpress.com/
URL:https://degrowthcentralvic.org/event/castlemaine-repair-cafe-2/
LOCATION:Castlemaine Community House\, 30 Templeton Street\, Castlemaine\, VIC\, 3450\, Australia
ORGANIZER;CN="Castlemaine Repair Cafe":MAILTO:chrislhooper1050@gmail.com
END:VEVENT
BEGIN:VEVENT
DTSTART;TZID=Australia/Melbourne:20240424T130000
DTEND;TZID=Australia/Melbourne:20240430T170000
DTSTAMP:20260422T205801
CREATED:20240501T213146Z
LAST-MODIFIED:20240502T015030Z
UID:2017-1713963600-1714496400@degrowthcentralvic.org
SUMMARY:Degrowth Network Melbourne Camp at Maldon
DESCRIPTION:Around ten Degrowth Network Melbourne (DNM) campers at Butts Reserve in Maldon 24–30 April 2024 appreciated the local ecological and social environs and collaborated with Degrowth Network Australia on a range of activities\, including: \n\ncutting firewood\nplanting fava beans (Vicia faba) and enjoying a fava bean based lunch\ntoasting dumpster-dived bread\nfireside discussions\na no-talent night\nvisiting Castlemaine’s Lot 19 to admire the facilities there and the Opening Doors project ‘Home’ exhibition of photographs and text by Paul Dunn who was on site to chat\nchecking out the Good Op Shop\, the Salvage Yard and three tiny houses being built in the Lewis Drive Castlemaine complex\nenjoying Castlemaine Pride 2024 events in central Castlemaine\ntaking a Eudaemonia walk led by Peter Yates\nengaging in discussions and exercises associated with the DCV Essentials Research project (see Collective Sufficiency).\n\nThanks DNM!! \n \n  \n 
URL:https://degrowthcentralvic.org/event/degrowth-network-melbourne-camp-at-maldon/
LOCATION:Vic
END:VEVENT
BEGIN:VEVENT
DTSTART;TZID=Australia/Melbourne:20240422T190000
DTEND;TZID=Australia/Melbourne:20240422T210000
DTSTAMP:20260422T205801
CREATED:20240319T221248Z
LAST-MODIFIED:20240319T221248Z
UID:1956-1713812400-1713819600@degrowthcentralvic.org
SUMMARY:LGBTIQA+ Refugees & Asylum Seekers
DESCRIPTION:
URL:https://degrowthcentralvic.org/event/lgbtiqa-refugees-asylum-seekers/
LOCATION:Northern Arts Hotel\, 359 Barker Street\, Castlemaine\, Vic\, 3450\, Australia
END:VEVENT
BEGIN:VEVENT
DTSTART;TZID=Australia/Melbourne:20240410T150000
DTEND;TZID=Australia/Melbourne:20240410T163000
DTSTAMP:20260422T205801
CREATED:20240328T053221Z
LAST-MODIFIED:20240328T053221Z
UID:1975-1712761200-1712766600@degrowthcentralvic.org
SUMMARY:Degrowth Central Victoria April meeting
DESCRIPTION:April monthly meeting of DCV. For more details\, contact us through our site (here!).
URL:https://degrowthcentralvic.org/event/degrowth-central-victoria-april-meeting/
LOCATION:Castlemaine Library\, 212 Barker St\, Castlemaine\, VIC\, 3450\, Australia
END:VEVENT
BEGIN:VEVENT
DTSTART;TZID=Australia/Melbourne:20240331T100000
DTEND;TZID=Australia/Melbourne:20240331T130000
DTSTAMP:20260422T205801
CREATED:20240328T054437Z
LAST-MODIFIED:20240328T055245Z
UID:1977-1711879200-1711890000@degrowthcentralvic.org
SUMMARY:Castlemaine Repair Cafe
DESCRIPTION:Castlemaine Repair Cafe \n \nLast Sunday every month\, January–November\, 1st in 1st served  \nFor more details see: https://castlemainerepaircafe.wordpress.com/
URL:https://degrowthcentralvic.org/event/castlemaine-repair-cafe/
LOCATION:Castlemaine Community House\, 30 Templeton Street\, Castlemaine\, VIC\, 3450\, Australia
ORGANIZER;CN="Castlemaine Repair Cafe":MAILTO:chrislhooper1050@gmail.com
END:VEVENT
BEGIN:VEVENT
DTSTART;TZID=Australia/Melbourne:20240321T160000
DTEND;TZID=Australia/Melbourne:20240321T180000
DTSTAMP:20260422T205801
CREATED:20240226T011603Z
LAST-MODIFIED:20240226T011701Z
UID:1940-1711036800-1711044000@degrowthcentralvic.org
SUMMARY:Degrowth Central Victoria meeting
DESCRIPTION:Degrowth Central Victoria meets monthly. This is our March meeting. We meet at Castlemaine Library. If you’re new to DCV\, to join please contact us beforehand.
URL:https://degrowthcentralvic.org/event/degrowth-central-victoria-meeting/
LOCATION:Castlemaine Library\, 212 Barker St\, Castlemaine\, VIC\, 3450\, Australia
END:VEVENT
BEGIN:VEVENT
DTSTART;TZID=UTC:20240304T190000
DTEND;TZID=UTC:20240304T203000
DTSTAMP:20260422T205801
CREATED:20240115T142346Z
LAST-MODIFIED:20240226T004319Z
UID:1098-1709578800-1709584200@degrowthcentralvic.org
SUMMARY:Wage Peace
DESCRIPTION:Australia’s new wave of militarism began long before AUKUS. What’s happening? Who profits from it? How far does it reach into our communities? Who is challenging this? \nWHAT? — Wage Peace is part of the global campaign for earthcare not warfare\, targeting companies making billions from the war machine. Their podcast Get Your Armies Off Our Bodies tells the stories of friends and colleagues in this and related campaigns\, from Afghanistan and West Papua to First Nations on Country\, from South Africa to the US and UK. Come and get a taste of these stories\, and chat about some of the campaigns. Maybe have a listen ahead of time at https://wagepeace.podbean.com/ – or just wait till the event. \nWHO? — This CFU event is presented by Matthew\, sometime-podcast producer who has worked in a number of lands impacted by conflict over the past 20-plus years.
URL:https://degrowthcentralvic.org/event/wage-peace/
LOCATION:Northern Arts Hotel\, 359 Barker Street\, Castlemaine\, Vic\, 3450\, Australia
ATTACH;FMTTYPE=image/jpeg:https://degrowthcentralvic.org/wp-content/uploads/2024/01/get-your-armies-off-our-bodies.jpg
END:VEVENT
END:VCALENDAR