BEGIN:VCALENDAR
VERSION:2.0
PRODID:-//Degrowth Central Victoria - ECPv6.15.17.1//NONSGML v1.0//EN
CALSCALE:GREGORIAN
METHOD:PUBLISH
X-WR-CALNAME:Degrowth Central Victoria
X-ORIGINAL-URL:https://degrowthcentralvic.org
X-WR-CALDESC:Events for Degrowth Central Victoria
REFRESH-INTERVAL;VALUE=DURATION:PT1H
X-Robots-Tag:noindex
X-PUBLISHED-TTL:PT1H
BEGIN:VTIMEZONE
TZID:Australia/Melbourne
BEGIN:STANDARD
TZOFFSETFROM:+1100
TZOFFSETTO:+1000
TZNAME:AEST
DTSTART:20230401T160000
END:STANDARD
BEGIN:DAYLIGHT
TZOFFSETFROM:+1000
TZOFFSETTO:+1100
TZNAME:AEDT
DTSTART:20230930T160000
END:DAYLIGHT
BEGIN:STANDARD
TZOFFSETFROM:+1100
TZOFFSETTO:+1000
TZNAME:AEST
DTSTART:20240406T160000
END:STANDARD
BEGIN:DAYLIGHT
TZOFFSETFROM:+1000
TZOFFSETTO:+1100
TZNAME:AEDT
DTSTART:20241005T160000
END:DAYLIGHT
BEGIN:STANDARD
TZOFFSETFROM:+1100
TZOFFSETTO:+1000
TZNAME:AEST
DTSTART:20250405T160000
END:STANDARD
BEGIN:DAYLIGHT
TZOFFSETFROM:+1000
TZOFFSETTO:+1100
TZNAME:AEDT
DTSTART:20251004T160000
END:DAYLIGHT
END:VTIMEZONE
BEGIN:VEVENT
DTSTART;TZID=Australia/Melbourne:20240603T180000
DTEND;TZID=Australia/Melbourne:20240603T193000
DTSTAMP:20260423T002237
CREATED:20240517T212941Z
LAST-MODIFIED:20240527T230513Z
UID:2031-1717437600-1717443000@degrowthcentralvic.org
SUMMARY:ESSENTIALS WORKSHOP
DESCRIPTION:
URL:https://degrowthcentralvic.org/event/essentials-workshop/
LOCATION:Northern Arts Hotel\, 359 Barker Street\, Castlemaine\, Vic\, 3450\, Australia
END:VEVENT
BEGIN:VEVENT
DTSTART;TZID=Australia/Melbourne:20240628T180000
DTEND;TZID=Australia/Melbourne:20240628T193000
DTSTAMP:20260423T002237
CREATED:20240527T230229Z
LAST-MODIFIED:20240616T080935Z
UID:2040-1719597600-1719603000@degrowthcentralvic.org
SUMMARY:ORGANISING OCCUPY WALL STREET
DESCRIPTION:Download LESSONS FROM OCCUPY WALL STREET FOR TODAY the last 1000 words in Marisa’s book on lessons from OWS for activism and activists today.
URL:https://degrowthcentralvic.org/event/organising-occupy-wall-street/
LOCATION:Northern Arts Hotel\, 359 Barker Street\, Castlemaine\, Vic\, 3450\, Australia
END:VEVENT
END:VCALENDAR